BEGIN:VCALENDAR
VERSION:2.0
PRODID:-//pretix//pretix.eu//
BEGIN:VTIMEZONE
TZID:Europe/Berlin
BEGIN:STANDARD
DTSTART:20001029T040000
RRULE:FREQ=YEARLY;BYDAY=-1SU;BYMONTH=10
TZNAME:CET
TZOFFSETFROM:+0200
TZOFFSETTO:+0100
END:STANDARD
BEGIN:DAYLIGHT
DTSTART:20000326T030000
RRULE:FREQ=YEARLY;BYDAY=-1SU;BYMONTH=3
TZNAME:CEST
TZOFFSETFROM:+0100
TZOFFSETTO:+0200
END:DAYLIGHT
END:VTIMEZONE
BEGIN:VEVENT
UID:pretix-jacc-munich-stammtisch-21-12-0@tickets.jacc-munich.de
DTSTART;TZID=Europe/Berlin:20251121T190000
DTEND;TZID=Europe/Berlin:20251121T230000
DESCRIPTION:Tickets: https://tickets.jacc-munich.de/stammtisch-21-12/\nOrga
 nizer: Japanese Culture Club Munich
DTSTAMP:20260423T063626Z
LOCATION:Wirtshaus Rechthaler Hof\, Arnulfstraße 10\, 80335 München
SUMMARY:JACC Stammtisch 🍻🥨
END:VEVENT
END:VCALENDAR
